BEGIN:VCALENDAR
VERSION:2.0
PRODID:concerti//https://www.concerti.de
CALSCALE:GREGORIAN
BEGIN:VTIMEZONE
TZID:Europe/Berlin
X-LIC-LOCATION:Europe/Berlin
BEGIN:DAYLIGHT
TZOFFSETFROM:+0100
TZOFFSETTO:+0200
TZNAME:CEST
DTSTART:19700329T020000
RRULE:FREQ=YEARLY;BYMONTH=3;BYDAY=-1SU
END:DAYLIGHT
BEGIN:STANDARD
TZOFFSETFROM:+0200
TZOFFSETTO:+0100
TZNAME:CET
DTSTART:19701025T030000
RRULE:FREQ=YEARLY;BYMONTH=10;BYDAY=-1SU
END:STANDARD
END:VTIMEZONE
BEGIN:VEVENT
UID:a29d5320992a65a2f7a8231519018cd7
SUMMARY:Katia Guedes (Gesang), Hezarfen Ensemble Istanbul - Intersonanzen – Brandenburgisches Fest der Neuen Musik: Eröffnungskonzert
URL:https://www.concerti.de/termine/katia-guedes-gesang-hezarfen-ensemble-istanbul-893685/
DTSTART;TZID=Europe/Berlin:20260604T181500
DTEND;TZID=Europe/Berlin:20260604T201500
DESCRIPTION:Interpreten: Katia Guedes (Gesang)\, Hezarfen Ensemble Istanbul \nProgramm: Guedes: Blätterklang/Yaprak sesi (UA)\, Kuwan: Wave and Ocean (UA)\, Tramin: Neues Werk (UA)\, Amargianaki: Frequently Flattery Flaws (UA)\, Ellison: Derivations 1 „Ussak“ u. a. \nhttps://www.concerti.de/termine/katia-guedes-gesang-hezarfen-ensemble-istanbul-893685/
LOCATION:Waschhaus\, Potsdam
END:VEVENT
END:VCALENDAR