BEGIN:VCALENDAR
VERSION:2.0
PRODID:concerti//https://www.concerti.de
CALSCALE:GREGORIAN
BEGIN:VTIMEZONE
TZID:Europe/Berlin
X-LIC-LOCATION:Europe/Berlin
BEGIN:DAYLIGHT
TZOFFSETFROM:+0100
TZOFFSETTO:+0200
TZNAME:CEST
DTSTART:19700329T020000
RRULE:FREQ=YEARLY;BYMONTH=3;BYDAY=-1SU
END:DAYLIGHT
BEGIN:STANDARD
TZOFFSETFROM:+0200
TZOFFSETTO:+0100
TZNAME:CET
DTSTART:19701025T030000
RRULE:FREQ=YEARLY;BYMONTH=10;BYDAY=-1SU
END:STANDARD
END:VTIMEZONE
BEGIN:VEVENT
UID:8b1a48bc85bec466634fb0f4d93b5103
SUMMARY:Glass for Two - Musik & Lesung im Krefeld Pavillon
URL:https://www.concerti.de/termine/glass-for-two-893547/
DTSTART;TZID=Europe/Berlin:20260614T150000
DTEND;TZID=Europe/Berlin:20260614T170000
DESCRIPTION:Interpreten: Pascal Schumacher (Vibraphon)\, Danae Dörken (Klavier) \nProgramm: Werke von Glass \nhttps://www.concerti.de/termine/glass-for-two-893547/
LOCATION:Pavillon\, Krefeld
END:VEVENT
END:VCALENDAR