BEGIN:VCALENDAR
VERSION:2.0
PRODID:concerti//https://www.concerti.de
CALSCALE:GREGORIAN
BEGIN:VTIMEZONE
TZID:Europe/Berlin
X-LIC-LOCATION:Europe/Berlin
BEGIN:DAYLIGHT
TZOFFSETFROM:+0100
TZOFFSETTO:+0200
TZNAME:CEST
DTSTART:19700329T020000
RRULE:FREQ=YEARLY;BYMONTH=3;BYDAY=-1SU
END:DAYLIGHT
BEGIN:STANDARD
TZOFFSETFROM:+0200
TZOFFSETTO:+0100
TZNAME:CET
DTSTART:19701025T030000
RRULE:FREQ=YEARLY;BYMONTH=10;BYDAY=-1SU
END:STANDARD
END:VTIMEZONE
BEGIN:VEVENT
UID:89ad4ccaa35106d0c269c21de15dd694
SUMMARY:The Gesualdo Six, Owain Park (Leitung) - Rheinvokal
URL:https://www.concerti.de/termine/the-gesualdo-six-owain-park-leitung-893527/
DTSTART;TZID=Europe/Berlin:20260830T170000
DTEND;TZID=Europe/Berlin:20260830T190000
DESCRIPTION:Interpreten: The Gesualdo Six\, Owain Park (Leitung) \nProgramm: Byrd: Ave verum corpus & O Lord\, make thy servant Elizabeth\, Gibbons: O Lord\, in thy wrath\, How art thou thralled & Farewell all joys\, Morley: Nolo mortem & Leave\, alas\, this tormenting\, Weelkes: Death hath deprived me\, When David heard & Hosanna to the Son of David\, Bennett: I languish to complain me & Weep\, O mine eyes\, Dowland: Flow my tears & In darkness let me dwell \nhttps://www.concerti.de/termine/the-gesualdo-six-owain-park-leitung-893527/
LOCATION:Liebfrauenkirche\, Oberwesek
END:VEVENT
END:VCALENDAR