BEGIN:VCALENDAR
VERSION:2.0
PRODID:concerti//https://www.concerti.de
CALSCALE:GREGORIAN
BEGIN:VTIMEZONE
TZID:Europe/Berlin
X-LIC-LOCATION:Europe/Berlin
BEGIN:DAYLIGHT
TZOFFSETFROM:+0100
TZOFFSETTO:+0200
TZNAME:CEST
DTSTART:19700329T020000
RRULE:FREQ=YEARLY;BYMONTH=3;BYDAY=-1SU
END:DAYLIGHT
BEGIN:STANDARD
TZOFFSETFROM:+0200
TZOFFSETTO:+0100
TZNAME:CET
DTSTART:19701025T030000
RRULE:FREQ=YEARLY;BYMONTH=10;BYDAY=-1SU
END:STANDARD
END:VTIMEZONE
BEGIN:VEVENT
UID:93403f3a459e417f36111832d96d7ef5
SUMMARY:Hanna Kim Koo (Sopran), Shai Terry (Mezzosopran), David Schläger (Tenor), Christian Rohrbach (Klavier &amp; Leitung), Claudia Eder (Rezitation) - Rheinvokal
URL:https://www.concerti.de/termine/hanna-kim-koo-sopran-shai-terry-mezzosopran-david-schlaeger-tenor-christian-rohrbach-klavier-leitung-claudia-eder-rezitation-893519/
DTSTART;TZID=Europe/Berlin:20260816T180000
DTEND;TZID=Europe/Berlin:20260816T200000
DESCRIPTION:Interpreten: Hanna Kim Koo (Sopran)\, Shai Terry (Mezzosopran)\, David Schläger (Tenor)\, Christian Rohrbach (Klavier & Leitung)\, Claudia Eder (Rezitation) \nProgramm: Vivaldi: Argenide (Auszüge)\, Hasse: Ipermestra (Auszüge)\, Perez: Ezio (Auszüge)\, Bernasconi: Semiramide (Auszüge)\, Sales: Il re pastore (Auszüge)\, Mozart: Va dal furor portata KV 21 & Idomeneo (Auszüge) \nhttps://www.concerti.de/termine/hanna-kim-koo-sopran-shai-terry-mezzosopran-david-schlaeger-tenor-christian-rohrbach-klavier-leitung-claudia-eder-rezitation-893519/
LOCATION:Kursaalgebäude\, Bad Ems
END:VEVENT
END:VCALENDAR