BEGIN:VCALENDAR
VERSION:2.0
PRODID:concerti//https://www.concerti.de
CALSCALE:GREGORIAN
BEGIN:VTIMEZONE
TZID:Europe/Berlin
X-LIC-LOCATION:Europe/Berlin
BEGIN:DAYLIGHT
TZOFFSETFROM:+0100
TZOFFSETTO:+0200
TZNAME:CEST
DTSTART:19700329T020000
RRULE:FREQ=YEARLY;BYMONTH=3;BYDAY=-1SU
END:DAYLIGHT
BEGIN:STANDARD
TZOFFSETFROM:+0200
TZOFFSETTO:+0100
TZNAME:CET
DTSTART:19701025T030000
RRULE:FREQ=YEARLY;BYMONTH=10;BYDAY=-1SU
END:STANDARD
END:VTIMEZONE
BEGIN:VEVENT
UID:37b9b72289d788401ca800ec15076f70
SUMMARY:Daniel Johannsen (Tenor), AleksandraGrychtolik (Cembalo), Alexander Grychtolik (Cembalo) - Rheinvokal
URL:https://www.concerti.de/termine/daniel-johannsen-tenor-aleksandragrychtolik-cembalo-alexander-grychtolik-cembalo-893501/
DTSTART;TZID=Europe/Berlin:20260731T190000
DTEND;TZID=Europe/Berlin:20260731T210000
DESCRIPTION:Interpreten: Daniel Johannsen (Tenor)\, AleksandraGrychtolik (Cembalo)\, Alexander Grychtolik (Cembalo) \nProgramm: J. S. Bach: Hilf Jesu Hilf BWV 147 & Jagdkantate BWV 208 (Auszüge)\, Händel: Cecilia\, volgi un sguardo HWV 89\, Werke von C. P. E. Bach u. a. \nhttps://www.concerti.de/termine/daniel-johannsen-tenor-aleksandragrychtolik-cembalo-alexander-grychtolik-cembalo-893501/
LOCATION:Pfarrkirche St. Pankratius\, Boppard
END:VEVENT
END:VCALENDAR