BEGIN:VCALENDAR
VERSION:2.0
PRODID:concerti//https://www.concerti.de
CALSCALE:GREGORIAN
BEGIN:VTIMEZONE
TZID:Europe/Berlin
X-LIC-LOCATION:Europe/Berlin
BEGIN:DAYLIGHT
TZOFFSETFROM:+0100
TZOFFSETTO:+0200
TZNAME:CEST
DTSTART:19700329T020000
RRULE:FREQ=YEARLY;BYMONTH=3;BYDAY=-1SU
END:DAYLIGHT
BEGIN:STANDARD
TZOFFSETFROM:+0200
TZOFFSETTO:+0100
TZNAME:CET
DTSTART:19701025T030000
RRULE:FREQ=YEARLY;BYMONTH=10;BYDAY=-1SU
END:STANDARD
END:VTIMEZONE
BEGIN:VEVENT
UID:5f8d59689c3482f381e9b1ae008a21e0
SUMMARY:Fleur Barron (Mezzosopran), Julius Drake (Klavier) - Rheinvokal
URL:https://www.concerti.de/termine/fleur-barron-mezzosopran-julius-drake-klavier-schloss-engers-893433/
DTSTART;TZID=Europe/Berlin:20260628T180000
DTEND;TZID=Europe/Berlin:20260628T200000
DESCRIPTION:Interpreten: Fleur Barron (Mezzosopran)\, Julius Drake (Klavier) \nProgramm: Cage: The wonderful widow of eighteen springs\, Valcárcel: W’ay! aus „Cuatro Canciones Incaicas“ & Tungu tungu aus Cantos del alma vernácula\, Falla: Siete Canciones Populares Españolas\, Yi: Meditation\, Know You How Many Petals Fallin & Monologue\, Trenet: Le Soleil et la Lune\, La Mer & Boum!\, Berio: Folk Songs u. a. \nhttps://www.concerti.de/termine/fleur-barron-mezzosopran-julius-drake-klavier-schloss-engers-893433/
LOCATION:Schloss Engers\, Alte Schlossstraße 2\, 56566 Neuwied
END:VEVENT
END:VCALENDAR