BEGIN:VCALENDAR
VERSION:2.0
PRODID:concerti//https://www.concerti.de
CALSCALE:GREGORIAN
BEGIN:VTIMEZONE
TZID:Europe/Berlin
X-LIC-LOCATION:Europe/Berlin
BEGIN:DAYLIGHT
TZOFFSETFROM:+0100
TZOFFSETTO:+0200
TZNAME:CEST
DTSTART:19700329T020000
RRULE:FREQ=YEARLY;BYMONTH=3;BYDAY=-1SU
END:DAYLIGHT
BEGIN:STANDARD
TZOFFSETFROM:+0200
TZOFFSETTO:+0100
TZNAME:CET
DTSTART:19701025T030000
RRULE:FREQ=YEARLY;BYMONTH=10;BYDAY=-1SU
END:STANDARD
END:VTIMEZONE
BEGIN:VEVENT
UID:12873a3f7971f8eae32f5992087d2975
SUMMARY:Reise um das Mittelmeer
URL:https://www.concerti.de/termine/reise-um-das-mittelmeer-badisches-staatstheater-893399/
DTSTART;TZID=Europe/Berlin:20260621T150000
DTEND;TZID=Europe/Berlin:20260621T170000
DESCRIPTION:Interpreten: Mitglieder des Badischen Konservatoriums\, Badische Staatskapelle\, Ulrich Wagner (Leitung) \nhttps://www.concerti.de/termine/reise-um-das-mittelmeer-badisches-staatstheater-893399/
LOCATION:Badisches Staatstheater Karlsruhe\, Hermann-Levi-Platz 1\, 76137 Karlsruhe
END:VEVENT
END:VCALENDAR