BEGIN:VCALENDAR
VERSION:2.0
PRODID:concerti//https://www.concerti.de
CALSCALE:GREGORIAN
BEGIN:VTIMEZONE
TZID:Europe/Berlin
X-LIC-LOCATION:Europe/Berlin
BEGIN:DAYLIGHT
TZOFFSETFROM:+0100
TZOFFSETTO:+0200
TZNAME:CEST
DTSTART:19700329T020000
RRULE:FREQ=YEARLY;BYMONTH=3;BYDAY=-1SU
END:DAYLIGHT
BEGIN:STANDARD
TZOFFSETFROM:+0200
TZOFFSETTO:+0100
TZNAME:CET
DTSTART:19701025T030000
RRULE:FREQ=YEARLY;BYMONTH=10;BYDAY=-1SU
END:STANDARD
END:VTIMEZONE
BEGIN:VEVENT
UID:8c50dc7d543925ae6e2317d65eaa5662
SUMMARY:Hindemith: Das Marienleben op. 27 - Heidelberger Frühling Liedfestival
URL:https://www.concerti.de/termine/hindemith-das-marienleben-op-27-kongresshaus-stadthalle-heidelberg-893389/
DTSTART;TZID=Europe/Berlin:20260620T170000
DTEND;TZID=Europe/Berlin:20260620T190000
DESCRIPTION:Interpreten: Christina Landshamer (Sopran)\, Alexander Fleischer (Klavier) \nhttps://www.concerti.de/termine/hindemith-das-marienleben-op-27-kongresshaus-stadthalle-heidelberg-893389/
LOCATION:Konzerthaus Stadthalle Heidelberg\, Neckarstaden 24\, 69117 Heidelberg
END:VEVENT
END:VCALENDAR