BEGIN:VCALENDAR
VERSION:2.0
PRODID:concerti//https://www.concerti.de
CALSCALE:GREGORIAN
BEGIN:VTIMEZONE
TZID:Europe/Berlin
X-LIC-LOCATION:Europe/Berlin
BEGIN:DAYLIGHT
TZOFFSETFROM:+0100
TZOFFSETTO:+0200
TZNAME:CEST
DTSTART:19700329T020000
RRULE:FREQ=YEARLY;BYMONTH=3;BYDAY=-1SU
END:DAYLIGHT
BEGIN:STANDARD
TZOFFSETFROM:+0200
TZOFFSETTO:+0100
TZNAME:CET
DTSTART:19701025T030000
RRULE:FREQ=YEARLY;BYMONTH=10;BYDAY=-1SU
END:STANDARD
END:VTIMEZONE
BEGIN:VEVENT
UID:79210a1182e06f9c98ecf8777c698617
SUMMARY:Chor der Hochschule für Kirchenmusik Heidelberg, Michiya Azumi (Leitung) - Heidelberger Frühling Liedfestival
URL:https://www.concerti.de/termine/chor-der-hochschule-fuer-kirchenmusik-heidelberg-michiya-azumi-leitung-893386/
DTSTART;TZID=Europe/Berlin:20260620T150000
DTEND;TZID=Europe/Berlin:20260620T170000
DESCRIPTION:Interpreten: Chor der Hochschule für Kirchenmusik Heidelberg\, Michiya Azumi (Leitung) \nhttps://www.concerti.de/termine/chor-der-hochschule-fuer-kirchenmusik-heidelberg-michiya-azumi-leitung-893386/
LOCATION:Christuskirche\, Heidelberg
END:VEVENT
END:VCALENDAR