BEGIN:VCALENDAR
VERSION:2.0
PRODID:concerti//https://www.concerti.de
CALSCALE:GREGORIAN
BEGIN:VTIMEZONE
TZID:Europe/Berlin
X-LIC-LOCATION:Europe/Berlin
BEGIN:DAYLIGHT
TZOFFSETFROM:+0100
TZOFFSETTO:+0200
TZNAME:CEST
DTSTART:19700329T020000
RRULE:FREQ=YEARLY;BYMONTH=3;BYDAY=-1SU
END:DAYLIGHT
BEGIN:STANDARD
TZOFFSETFROM:+0200
TZOFFSETTO:+0100
TZNAME:CET
DTSTART:19701025T030000
RRULE:FREQ=YEARLY;BYMONTH=10;BYDAY=-1SU
END:STANDARD
END:VTIMEZONE
BEGIN:VEVENT
UID:b7f5b903472c65c17fe099bcda9e7de9
SUMMARY:Reinhold Friedrich (Trompete), Deutsches Ärzteorchester, Alexander Mottok (Leitung) - Benefizkonzert
URL:https://www.concerti.de/termine/reinhold-friedrich-trompete-deutsches-aerzteorchester-alexander-mottok-leitung-badisches-staatstheater-893380/
DTSTART;TZID=Europe/Berlin:20260620T193000
DTEND;TZID=Europe/Berlin:20260620T213000
DESCRIPTION:Interpreten: Reinhold Friedrich (Trompete)\, Deutsches Ärzteorchester\, Alexander Mottok (Leitung) \nProgramm: Dvořák: Karneval-Ouvertüre op. 92\, Arutjunjan: Trompetenkonzert\, Berlioz: Symphonie fantastique op. 14 \nhttps://www.concerti.de/termine/reinhold-friedrich-trompete-deutsches-aerzteorchester-alexander-mottok-leitung-badisches-staatstheater-893380/
LOCATION:Badisches Staatstheater Karlsruhe\, Hermann-Levi-Platz 1\, 76137 Karlsruhe
END:VEVENT
END:VCALENDAR