BEGIN:VCALENDAR
VERSION:2.0
PRODID:concerti//https://www.concerti.de
CALSCALE:GREGORIAN
BEGIN:VTIMEZONE
TZID:Europe/Berlin
X-LIC-LOCATION:Europe/Berlin
BEGIN:DAYLIGHT
TZOFFSETFROM:+0100
TZOFFSETTO:+0200
TZNAME:CEST
DTSTART:19700329T020000
RRULE:FREQ=YEARLY;BYMONTH=3;BYDAY=-1SU
END:DAYLIGHT
BEGIN:STANDARD
TZOFFSETFROM:+0200
TZOFFSETTO:+0100
TZNAME:CET
DTSTART:19701025T030000
RRULE:FREQ=YEARLY;BYMONTH=10;BYDAY=-1SU
END:STANDARD
END:VTIMEZONE
BEGIN:VEVENT
UID:6e837c22270e811a8c74e7f28ee3bef6
SUMMARY:Valerie Eickhoff (Mezzosopran), Elenora Pertz (Klavier) - Heidelberger Frühling Liedfestival
URL:https://www.concerti.de/termine/valerie-eickhoff-mezzosopran-elenora-pertz-klavier-alte-aula-der-universitaet-heidelberg-893339/
DTSTART;TZID=Europe/Berlin:20260616T170000
DTEND;TZID=Europe/Berlin:20260616T190000
DESCRIPTION:Interpreten: Valerie Eickhoff (Mezzosopran)\, Elenora Pertz (Klavier) \nProgramm: Schönberg: Erwartung & Schenk mir deinen goldenen Kamm\, Eisler: Vom Sprengen des Gartens\, A. Mahler: Ich wandle unter Blumen\, Bei dir ist es traut & Laue Sommernacht\, Korngold: Das Ständchen\, Ruth Schonthal: Manchmal & Eine rote Rose\, Britten: Funeral Blues & Johnny u. a. \nhttps://www.concerti.de/termine/valerie-eickhoff-mezzosopran-elenora-pertz-klavier-alte-aula-der-universitaet-heidelberg-893339/
LOCATION:Alte Aula Heidelberg\, Grabengasse 1\, 69117 Heidelberg
END:VEVENT
END:VCALENDAR