BEGIN:VCALENDAR
VERSION:2.0
PRODID:concerti//https://www.concerti.de
CALSCALE:GREGORIAN
BEGIN:VTIMEZONE
TZID:Europe/Berlin
X-LIC-LOCATION:Europe/Berlin
BEGIN:DAYLIGHT
TZOFFSETFROM:+0100
TZOFFSETTO:+0200
TZNAME:CEST
DTSTART:19700329T020000
RRULE:FREQ=YEARLY;BYMONTH=3;BYDAY=-1SU
END:DAYLIGHT
BEGIN:STANDARD
TZOFFSETFROM:+0200
TZOFFSETTO:+0100
TZNAME:CET
DTSTART:19701025T030000
RRULE:FREQ=YEARLY;BYMONTH=10;BYDAY=-1SU
END:STANDARD
END:VTIMEZONE
BEGIN:VEVENT
UID:6ff3a0a579b6cc824831cac7d5fc1e7d
SUMMARY:Der Nussknacker - Sitzkissenkonzert
URL:https://www.concerti.de/termine/der-nussknacker-haus-der-musik-innsbruck-892934/
DTSTART;TZID=Europe/Berlin:20261213T103000
DTEND;TZID=Europe/Berlin:20261213T123000
DESCRIPTION:Interpreten: Holzbläserquintett des Tiroler Symphonieorchesters Innsbruck \nhttps://www.concerti.de/termine/der-nussknacker-haus-der-musik-innsbruck-892934/
LOCATION:Haus der Musik Innsbruck\, Universitätsstraße 1\, 6020 Innsbruck
END:VEVENT
END:VCALENDAR