BEGIN:VCALENDAR
VERSION:2.0
PRODID:concerti//https://www.concerti.de
CALSCALE:GREGORIAN
BEGIN:VTIMEZONE
TZID:Europe/Berlin
X-LIC-LOCATION:Europe/Berlin
BEGIN:DAYLIGHT
TZOFFSETFROM:+0100
TZOFFSETTO:+0200
TZNAME:CEST
DTSTART:19700329T020000
RRULE:FREQ=YEARLY;BYMONTH=3;BYDAY=-1SU
END:DAYLIGHT
BEGIN:STANDARD
TZOFFSETFROM:+0200
TZOFFSETTO:+0100
TZNAME:CET
DTSTART:19701025T030000
RRULE:FREQ=YEARLY;BYMONTH=10;BYDAY=-1SU
END:STANDARD
END:VTIMEZONE
BEGIN:VEVENT
UID:184496821098c199a081be08840c1203
SUMMARY:Giordano: Andrea Chénier
URL:https://www.concerti.de/termine/giordano-andrea-chenier-staatsoper-wien-892561/
DTSTART:20270624
DURATION:P1D
DESCRIPTION:Interpreten: Piotr Beczała (Andrea Chénier)\, Boris Pinkhasovich (Carlo Gérard)\, Sondra Radvanovsky (Maddalena di Coigny)\, Monika Bohinec (Madelon)\, Hans Peter Kammerer (Dumas)\, Axel Kober (Leitung)\, Otto Schenk (Regie) \nhttps://www.concerti.de/termine/giordano-andrea-chenier-staatsoper-wien-892561/
LOCATION:Wiener Staatsoper\, Opernring 2\, 1010 Wien
END:VEVENT
END:VCALENDAR