BEGIN:VCALENDAR
VERSION:2.0
PRODID:concerti//https://www.concerti.de
CALSCALE:GREGORIAN
BEGIN:VTIMEZONE
TZID:Europe/Berlin
X-LIC-LOCATION:Europe/Berlin
BEGIN:DAYLIGHT
TZOFFSETFROM:+0100
TZOFFSETTO:+0200
TZNAME:CEST
DTSTART:19700329T020000
RRULE:FREQ=YEARLY;BYMONTH=3;BYDAY=-1SU
END:DAYLIGHT
BEGIN:STANDARD
TZOFFSETFROM:+0200
TZOFFSETTO:+0100
TZNAME:CET
DTSTART:19701025T030000
RRULE:FREQ=YEARLY;BYMONTH=10;BYDAY=-1SU
END:STANDARD
END:VTIMEZONE
BEGIN:VEVENT
UID:d2d1f1fbede3b853d7e6d525026682d1
SUMMARY:R. Strauss: Arabella
URL:https://www.concerti.de/termine/r-strauss-arabella-staatsoper-wien-892526/
DTSTART:20270529
DURATION:P1D
DESCRIPTION:Interpreten: Bartosz Urbanowicz (Graf Waldner)\, Stephanie Houtzeel (Adelaide)\, Hanna-Elisabeth Müller (Arabella)\, Nikola Hillebrand (Zdenka)\, Michael Nagy (Mandryka)\, Michael Laurenz (Matteo)\, Daniel Jenz (Graf Elemer)\, Adrian Eröd (Graf Dominik)\, Constantin Trinks (Leitung)\, Sven-Eric Bechtolf (Regie) \nhttps://www.concerti.de/termine/r-strauss-arabella-staatsoper-wien-892526/
LOCATION:Wiener Staatsoper\, Opernring 2\, 1010 Wien
END:VEVENT
END:VCALENDAR