BEGIN:VCALENDAR
VERSION:2.0
PRODID:concerti//https://www.concerti.de
CALSCALE:GREGORIAN
BEGIN:VTIMEZONE
TZID:Europe/Berlin
X-LIC-LOCATION:Europe/Berlin
BEGIN:DAYLIGHT
TZOFFSETFROM:+0100
TZOFFSETTO:+0200
TZNAME:CEST
DTSTART:19700329T020000
RRULE:FREQ=YEARLY;BYMONTH=3;BYDAY=-1SU
END:DAYLIGHT
BEGIN:STANDARD
TZOFFSETFROM:+0200
TZOFFSETTO:+0100
TZNAME:CET
DTSTART:19701025T030000
RRULE:FREQ=YEARLY;BYMONTH=10;BYDAY=-1SU
END:STANDARD
END:VTIMEZONE
BEGIN:VEVENT
UID:1b314aae6c6d7ea538dcad5b86a9b18e
SUMMARY:Aleksandra Pleterski (Flöte), Johannes Kostner (Violine), David Pennetzdorfer (Violoncello), Manfred Wagner-Artzt (Klavier) - Kammermusik
URL:https://www.concerti.de/termine/aleksandra-pleterski-floete-johannes-kostner-violine-david-pennetzdorfer-violoncello-manfred-wagner-artzt-klavier-staatsoper-wien-892523/
DTSTART:20270522
DURATION:P1D
DESCRIPTION:Interpreten: Aleksandra Pleterski (Flöte)\, Johannes Kostner (Violine)\, David Pennetzdorfer (Violoncello)\, Manfred Wagner-Artzt (Klavier) \nhttps://www.concerti.de/termine/aleksandra-pleterski-floete-johannes-kostner-violine-david-pennetzdorfer-violoncello-manfred-wagner-artzt-klavier-staatsoper-wien-892523/
LOCATION:Wiener Staatsoper\, Opernring 2\, 1010 Wien
END:VEVENT
END:VCALENDAR