BEGIN:VCALENDAR
VERSION:2.0
PRODID:concerti//https://www.concerti.de
CALSCALE:GREGORIAN
BEGIN:VTIMEZONE
TZID:Europe/Berlin
X-LIC-LOCATION:Europe/Berlin
BEGIN:DAYLIGHT
TZOFFSETFROM:+0100
TZOFFSETTO:+0200
TZNAME:CEST
DTSTART:19700329T020000
RRULE:FREQ=YEARLY;BYMONTH=3;BYDAY=-1SU
END:DAYLIGHT
BEGIN:STANDARD
TZOFFSETFROM:+0200
TZOFFSETTO:+0100
TZNAME:CET
DTSTART:19701025T030000
RRULE:FREQ=YEARLY;BYMONTH=10;BYDAY=-1SU
END:STANDARD
END:VTIMEZONE
BEGIN:VEVENT
UID:ba5cc64d72f7382e81760cfe595b7141
SUMMARY:Mitglieder des Ensembles der Wiener Staatsoper - Ensemblematinee
URL:https://www.concerti.de/termine/mitglieder-des-ensembles-der-wiener-staatsoper-staatsoper-wien-892408/
DTSTART:20270411
DURATION:P1D
DESCRIPTION:Interpreten: Mitglieder des Ensembles der Wiener Staatsoper \nhttps://www.concerti.de/termine/mitglieder-des-ensembles-der-wiener-staatsoper-staatsoper-wien-892408/
LOCATION:Wiener Staatsoper\, Opernring 2\, 1010 Wien
END:VEVENT
END:VCALENDAR