BEGIN:VCALENDAR
VERSION:2.0
PRODID:concerti//https://www.concerti.de
CALSCALE:GREGORIAN
BEGIN:VTIMEZONE
TZID:Europe/Berlin
X-LIC-LOCATION:Europe/Berlin
BEGIN:DAYLIGHT
TZOFFSETFROM:+0100
TZOFFSETTO:+0200
TZNAME:CEST
DTSTART:19700329T020000
RRULE:FREQ=YEARLY;BYMONTH=3;BYDAY=-1SU
END:DAYLIGHT
BEGIN:STANDARD
TZOFFSETFROM:+0200
TZOFFSETTO:+0100
TZNAME:CET
DTSTART:19701025T030000
RRULE:FREQ=YEARLY;BYMONTH=10;BYDAY=-1SU
END:STANDARD
END:VTIMEZONE
BEGIN:VEVENT
UID:290976419f50d08dd280851e1d82d822
SUMMARY:Wagner: Tristan und Isolde
URL:https://www.concerti.de/termine/wagner-tristan-und-isolde-staatsoper-wien-892445/
DTSTART:20270411
DURATION:P1D
DESCRIPTION:Interpreten: Andreas Schager (Tristan)\, Kwangchul Youn (König Marke)\, Miina-Liisa Värelä (Isolde)\, Adrian Eröd (Kurwenal)\, Tanja Ariane Baumgartner (Brangäne)\, Alexander Soddy (Leitung)\, Calixto Bieito (Regie) \nhttps://www.concerti.de/termine/wagner-tristan-und-isolde-staatsoper-wien-892445/
LOCATION:Wiener Staatsoper\, Opernring 2\, 1010 Wien
END:VEVENT
END:VCALENDAR