BEGIN:VCALENDAR
VERSION:2.0
PRODID:concerti//https://www.concerti.de
CALSCALE:GREGORIAN
BEGIN:VTIMEZONE
TZID:Europe/Berlin
X-LIC-LOCATION:Europe/Berlin
BEGIN:DAYLIGHT
TZOFFSETFROM:+0100
TZOFFSETTO:+0200
TZNAME:CEST
DTSTART:19700329T020000
RRULE:FREQ=YEARLY;BYMONTH=3;BYDAY=-1SU
END:DAYLIGHT
BEGIN:STANDARD
TZOFFSETFROM:+0200
TZOFFSETTO:+0100
TZNAME:CET
DTSTART:19701025T030000
RRULE:FREQ=YEARLY;BYMONTH=10;BYDAY=-1SU
END:STANDARD
END:VTIMEZONE
BEGIN:VEVENT
UID:b4fabe6d797a8039b5708bb89b2073a0
SUMMARY:Piotr Beczała (Tenor), Luca Salsi (Bariton) - Grosse Stimmen
URL:https://www.concerti.de/termine/piotr-beczala-tenor-luca-salsi-bariton-staatsoper-wien-892397/
DTSTART:20270302
DURATION:P1D
DESCRIPTION:Interpreten: Piotr Beczała (Tenor)\, Luca Salsi (Bariton) \nhttps://www.concerti.de/termine/piotr-beczala-tenor-luca-salsi-bariton-staatsoper-wien-892397/
LOCATION:Wiener Staatsoper\, Opernring 2\, 1010 Wien
END:VEVENT
END:VCALENDAR