BEGIN:VCALENDAR
VERSION:2.0
PRODID:concerti//https://www.concerti.de
CALSCALE:GREGORIAN
BEGIN:VTIMEZONE
TZID:Europe/Berlin
X-LIC-LOCATION:Europe/Berlin
BEGIN:DAYLIGHT
TZOFFSETFROM:+0100
TZOFFSETTO:+0200
TZNAME:CEST
DTSTART:19700329T020000
RRULE:FREQ=YEARLY;BYMONTH=3;BYDAY=-1SU
END:DAYLIGHT
BEGIN:STANDARD
TZOFFSETFROM:+0200
TZOFFSETTO:+0100
TZNAME:CET
DTSTART:19701025T030000
RRULE:FREQ=YEARLY;BYMONTH=10;BYDAY=-1SU
END:STANDARD
END:VTIMEZONE
BEGIN:VEVENT
UID:34c6f21ff5744518fc969db751120be4
SUMMARY:Massenet: Werther
URL:https://www.concerti.de/termine/massenet-werther-staatsoper-wien-892315/
DTSTART:20270107
DURATION:P1D
DESCRIPTION:Interpreten: Juan Diego Flórez (Werther)\, Attila Mokus (Albert)\, Kate Lindsey (Charlotte)\, Sandra Hamaoui (Sophie)\, Marco Armiliato (Leitung)\, Andrei Serban (Regie) \nhttps://www.concerti.de/termine/massenet-werther-staatsoper-wien-892315/
LOCATION:Wiener Staatsoper\, Opernring 2\, 1010 Wien
END:VEVENT
END:VCALENDAR