BEGIN:VCALENDAR
VERSION:2.0
PRODID:concerti//https://www.concerti.de
CALSCALE:GREGORIAN
BEGIN:VTIMEZONE
TZID:Europe/Berlin
X-LIC-LOCATION:Europe/Berlin
BEGIN:DAYLIGHT
TZOFFSETFROM:+0100
TZOFFSETTO:+0200
TZNAME:CEST
DTSTART:19700329T020000
RRULE:FREQ=YEARLY;BYMONTH=3;BYDAY=-1SU
END:DAYLIGHT
BEGIN:STANDARD
TZOFFSETFROM:+0200
TZOFFSETTO:+0100
TZNAME:CET
DTSTART:19701025T030000
RRULE:FREQ=YEARLY;BYMONTH=10;BYDAY=-1SU
END:STANDARD
END:VTIMEZONE
BEGIN:VEVENT
UID:c75e0ac22251b1d075798ead744a9563
SUMMARY:Berlioz: La Damnation de Faust
URL:https://www.concerti.de/termine/berlioz-la-damnation-de-faust-staatsoper-wien-892275/
DTSTART:20261227
DURATION:P1D
DESCRIPTION:Interpreten: Eve-Maud Hubeaux (Marguerite)\, John Osborn (Faust)\, Christian Van Horn (Méphistophélès)\, Simonas Strazdas (Brander)\, Bertrand de Billy (Leitung)\, Lydia Steier (Regie) \nhttps://www.concerti.de/termine/berlioz-la-damnation-de-faust-staatsoper-wien-892275/
LOCATION:Wiener Staatsoper\, Opernring 2\, 1010 Wien
END:VEVENT
END:VCALENDAR