BEGIN:VCALENDAR
VERSION:2.0
PRODID:concerti//https://www.concerti.de
CALSCALE:GREGORIAN
BEGIN:VTIMEZONE
TZID:Europe/Berlin
X-LIC-LOCATION:Europe/Berlin
BEGIN:DAYLIGHT
TZOFFSETFROM:+0100
TZOFFSETTO:+0200
TZNAME:CEST
DTSTART:19700329T020000
RRULE:FREQ=YEARLY;BYMONTH=3;BYDAY=-1SU
END:DAYLIGHT
BEGIN:STANDARD
TZOFFSETFROM:+0200
TZOFFSETTO:+0100
TZNAME:CET
DTSTART:19701025T030000
RRULE:FREQ=YEARLY;BYMONTH=10;BYDAY=-1SU
END:STANDARD
END:VTIMEZONE
BEGIN:VEVENT
UID:fc7f10f78d4e3b2348d599da710e99ab
SUMMARY:Ileana Tonca (Sopran), Leonardo Neiva (Bariton) - Ensemblematinee
URL:https://www.concerti.de/termine/ileana-tonca-sopran-leonardo-neiva-bariton-staatsoper-wien-892228/
DTSTART:20261122
DURATION:P1D
DESCRIPTION:Interpreten: Ileana Tonca (Sopran)\, Leonardo Neiva (Bariton) \nhttps://www.concerti.de/termine/ileana-tonca-sopran-leonardo-neiva-bariton-staatsoper-wien-892228/
LOCATION:Wiener Staatsoper\, Opernring 2\, 1010 Wien
END:VEVENT
END:VCALENDAR