BEGIN:VCALENDAR
VERSION:2.0
PRODID:concerti//https://www.concerti.de
CALSCALE:GREGORIAN
BEGIN:VTIMEZONE
TZID:Europe/Berlin
X-LIC-LOCATION:Europe/Berlin
BEGIN:DAYLIGHT
TZOFFSETFROM:+0100
TZOFFSETTO:+0200
TZNAME:CEST
DTSTART:19700329T020000
RRULE:FREQ=YEARLY;BYMONTH=3;BYDAY=-1SU
END:DAYLIGHT
BEGIN:STANDARD
TZOFFSETFROM:+0200
TZOFFSETTO:+0100
TZNAME:CET
DTSTART:19701025T030000
RRULE:FREQ=YEARLY;BYMONTH=10;BYDAY=-1SU
END:STANDARD
END:VTIMEZONE
BEGIN:VEVENT
UID:c05eb941d67810b90f7877b3c557d02e
SUMMARY:Nijinsky
URL:https://www.concerti.de/termine/nijinsky-staatsoper-wien-892147/
DTSTART:20261109
DURATION:P1D
DESCRIPTION:Interpreten: Nathan Brock (Leitung)\, John Neumeier (Choreografie) \nProgramm: Musik von Chopin\, Rimski-Korsakow\, Schostakowitsch & Schumann \nhttps://www.concerti.de/termine/nijinsky-staatsoper-wien-892147/
LOCATION:Wiener Staatsoper\, Opernring 2\, 1010 Wien
END:VEVENT
END:VCALENDAR