BEGIN:VCALENDAR
VERSION:2.0
PRODID:concerti//https://www.concerti.de
CALSCALE:GREGORIAN
BEGIN:VTIMEZONE
TZID:Europe/Berlin
X-LIC-LOCATION:Europe/Berlin
BEGIN:DAYLIGHT
TZOFFSETFROM:+0100
TZOFFSETTO:+0200
TZNAME:CEST
DTSTART:19700329T020000
RRULE:FREQ=YEARLY;BYMONTH=3;BYDAY=-1SU
END:DAYLIGHT
BEGIN:STANDARD
TZOFFSETFROM:+0200
TZOFFSETTO:+0100
TZNAME:CET
DTSTART:19701025T030000
RRULE:FREQ=YEARLY;BYMONTH=10;BYDAY=-1SU
END:STANDARD
END:VTIMEZONE
BEGIN:VEVENT
UID:c47447fcc9e52ff345c4fd3045695d0b
SUMMARY:Donizetti: La Fille du régiment
URL:https://www.concerti.de/termine/donizetti-la-fille-du-regiment-staatsoper-wien-892188/
DTSTART:20261107
DURATION:P1D
DESCRIPTION:Interpreten: Erin Morley (Marie)\, Xabier Anduaga (Tonio)\, Misha Kiria (Sulpice)\, Brigitte Kren (Herzogin von Crakentorp)\, Evelino Pidò (Leitung)\, Laurent Pelly (Regie) \nhttps://www.concerti.de/termine/donizetti-la-fille-du-regiment-staatsoper-wien-892188/
LOCATION:Wiener Staatsoper\, Opernring 2\, 1010 Wien
END:VEVENT
END:VCALENDAR