BEGIN:VCALENDAR
VERSION:2.0
PRODID:concerti//https://www.concerti.de
CALSCALE:GREGORIAN
BEGIN:VTIMEZONE
TZID:Europe/Berlin
X-LIC-LOCATION:Europe/Berlin
BEGIN:DAYLIGHT
TZOFFSETFROM:+0100
TZOFFSETTO:+0200
TZNAME:CEST
DTSTART:19700329T020000
RRULE:FREQ=YEARLY;BYMONTH=3;BYDAY=-1SU
END:DAYLIGHT
BEGIN:STANDARD
TZOFFSETFROM:+0200
TZOFFSETTO:+0100
TZNAME:CET
DTSTART:19701025T030000
RRULE:FREQ=YEARLY;BYMONTH=10;BYDAY=-1SU
END:STANDARD
END:VTIMEZONE
BEGIN:VEVENT
UID:5db776b25c9dadb15302229cf7f0070a
SUMMARY:Mozart: Die Entführung aus dem Serail
URL:https://www.concerti.de/termine/mozart-die-entfuehrung-aus-dem-serail-staatsoper-wien-668254/
DTSTART;TZID=Europe/Berlin:20261023T190000
DTEND;TZID=Europe/Berlin:20261023T210000
DESCRIPTION:Interpreten: Nikola Hillebrand/Katharina Pichler (Konstanze)\, Ilia Staple/Stella Roberts (Blonde)\, Stefan Cerny (Osmin)\, Sebastian Kohlhepp/Christian Natter (Belmonte)\, Matthäus Schmidlechner/Ludwig Blochberger (Pedrillo)\, Constantin Trinks (Leitung)\, Hans Neuenfels (Regie) \nhttps://www.concerti.de/termine/mozart-die-entfuehrung-aus-dem-serail-staatsoper-wien-668254/
LOCATION:Wiener Staatsoper\, Opernring 2\, 1010 Wien
END:VEVENT
END:VCALENDAR