BEGIN:VCALENDAR
VERSION:2.0
PRODID:concerti//https://www.concerti.de
CALSCALE:GREGORIAN
BEGIN:VTIMEZONE
TZID:Europe/Berlin
X-LIC-LOCATION:Europe/Berlin
BEGIN:DAYLIGHT
TZOFFSETFROM:+0100
TZOFFSETTO:+0200
TZNAME:CEST
DTSTART:19700329T020000
RRULE:FREQ=YEARLY;BYMONTH=3;BYDAY=-1SU
END:DAYLIGHT
BEGIN:STANDARD
TZOFFSETFROM:+0200
TZOFFSETTO:+0100
TZNAME:CET
DTSTART:19701025T030000
RRULE:FREQ=YEARLY;BYMONTH=10;BYDAY=-1SU
END:STANDARD
END:VTIMEZONE
BEGIN:VEVENT
UID:0fd8d9acfe31fd10bef94697bfc5e597
SUMMARY:Rossini: Il barbiere di Siviglia
URL:https://www.concerti.de/termine/rossini-il-barbiere-di-siviglia-staatsoper-wien-463790/
DTSTART;TZID=Europe/Berlin:20261016T190000
DTEND;TZID=Europe/Berlin:20261016T210000
DESCRIPTION:Interpreten: Levy Sekgapane (Graf Almaviva)\, Misha Kiria (Bartolo)\, Kate Lindsey (Rosina)\, Antonio Di Matteo (Don Basilio)\, Adam Plachetka (Figaro)\, Sebastian Wendelin (Ambrogio)\, Jenni Hietala (Marzellina)\, Leonardo Sini (Leitung)\, Herbert Fritsch (Regie) \nhttps://www.concerti.de/termine/rossini-il-barbiere-di-siviglia-staatsoper-wien-463790/
LOCATION:Wiener Staatsoper\, Opernring 2\, 1010 Wien
END:VEVENT
END:VCALENDAR