BEGIN:VCALENDAR
VERSION:2.0
PRODID:concerti//https://www.concerti.de
CALSCALE:GREGORIAN
BEGIN:VTIMEZONE
TZID:Europe/Berlin
X-LIC-LOCATION:Europe/Berlin
BEGIN:DAYLIGHT
TZOFFSETFROM:+0100
TZOFFSETTO:+0200
TZNAME:CEST
DTSTART:19700329T020000
RRULE:FREQ=YEARLY;BYMONTH=3;BYDAY=-1SU
END:DAYLIGHT
BEGIN:STANDARD
TZOFFSETFROM:+0200
TZOFFSETTO:+0100
TZNAME:CET
DTSTART:19701025T030000
RRULE:FREQ=YEARLY;BYMONTH=10;BYDAY=-1SU
END:STANDARD
END:VTIMEZONE
BEGIN:VEVENT
UID:e5ab0ccf8ec552e4b48a77bc109f3e31
SUMMARY:Verdi: Macbeth
URL:https://www.concerti.de/termine/verdi-macbeth-staatsoper-wien-892065/
DTSTART;TZID=Europe/Berlin:20261001T190000
DTEND;TZID=Europe/Berlin:20261001T210000
DESCRIPTION:Interpreten: Étienne Dupuis (Macbeth)\, Alexander Vinogradov (Banco)\, Anastasia Bartoli (Lady Macbeth)\, Najmiddin Mavlyanov (Macduff)\, Francesco Ivan Ciampa (Leitung)\, Barrie Kosky (Regie) \nhttps://www.concerti.de/termine/verdi-macbeth-staatsoper-wien-892065/
LOCATION:Wiener Staatsoper\, Opernring 2\, 1010 Wien
END:VEVENT
END:VCALENDAR