BEGIN:VCALENDAR
VERSION:2.0
PRODID:concerti//https://www.concerti.de
CALSCALE:GREGORIAN
BEGIN:VTIMEZONE
TZID:Europe/Berlin
X-LIC-LOCATION:Europe/Berlin
BEGIN:DAYLIGHT
TZOFFSETFROM:+0100
TZOFFSETTO:+0200
TZNAME:CEST
DTSTART:19700329T020000
RRULE:FREQ=YEARLY;BYMONTH=3;BYDAY=-1SU
END:DAYLIGHT
BEGIN:STANDARD
TZOFFSETFROM:+0200
TZOFFSETTO:+0100
TZNAME:CET
DTSTART:19701025T030000
RRULE:FREQ=YEARLY;BYMONTH=10;BYDAY=-1SU
END:STANDARD
END:VTIMEZONE
BEGIN:VEVENT
UID:875febb2da29be12bc048bf60b7087dc
SUMMARY:Mozart: Le nozze di Figaro
URL:https://www.concerti.de/termine/mozart-le-nozze-di-figaro-444670/
DTSTART;TZID=Europe/Berlin:20260915T190000
DTEND;TZID=Europe/Berlin:20260915T210000
DESCRIPTION:Interpreten: Florian Sempey (Graf Almaviva)\, Elsa Dreisig (Gräfin Almaviva)\, Andrea Carroll (Susanna)\, Riccardo Fassi (Figaro)\, Alma Neuhaus (Cherubino)\, Patrick Hahn (Leitung)\, Barrie Kosky (Regie)\, Andrzej Filonczyk (Graf Almaviva)\, Pretty Yende (Gräfin Almaviva)\, Kathrin Zukowski (Susanna)\, Peter Kellner (Figaro)\, Jana Markovic (Cherubino)\, Axel Kober (Leitung)\, Barrie Kosky (Regie) \nhttps://www.concerti.de/termine/mozart-le-nozze-di-figaro-444670/
LOCATION:Wiener Staatsoper\, Opernring 2\, 1010 Wien
END:VEVENT
END:VCALENDAR