BEGIN:VCALENDAR
VERSION:2.0
PRODID:concerti//https://www.concerti.de
CALSCALE:GREGORIAN
BEGIN:VTIMEZONE
TZID:Europe/Berlin
X-LIC-LOCATION:Europe/Berlin
BEGIN:DAYLIGHT
TZOFFSETFROM:+0100
TZOFFSETTO:+0200
TZNAME:CEST
DTSTART:19700329T020000
RRULE:FREQ=YEARLY;BYMONTH=3;BYDAY=-1SU
END:DAYLIGHT
BEGIN:STANDARD
TZOFFSETFROM:+0200
TZOFFSETTO:+0100
TZNAME:CET
DTSTART:19701025T030000
RRULE:FREQ=YEARLY;BYMONTH=10;BYDAY=-1SU
END:STANDARD
END:VTIMEZONE
BEGIN:VEVENT
UID:0f361f2a8447ca303c301e5f9d831f29
SUMMARY:Opern Air – Galakonzert
URL:https://www.concerti.de/termine/opern-air-galakonzert-892029/
DTSTART:20260906
DURATION:P1D
DESCRIPTION:Interpreten: Asmik Grigorian (Sopran)\, Piotr Beczała (Tenor)\, Juan Diego Flórez (Tenor)\, Ludovic Tézier (Bariton)\, Chor\, Kinderchor & Orchester der Staatsoper Wien\, Axel Kober (Leitung) \nhttps://www.concerti.de/termine/opern-air-galakonzert-892029/
LOCATION:Burggarten\, Wien
END:VEVENT
END:VCALENDAR