BEGIN:VCALENDAR
VERSION:2.0
PRODID:concerti//https://www.concerti.de
CALSCALE:GREGORIAN
BEGIN:VTIMEZONE
TZID:Europe/Berlin
X-LIC-LOCATION:Europe/Berlin
BEGIN:DAYLIGHT
TZOFFSETFROM:+0100
TZOFFSETTO:+0200
TZNAME:CEST
DTSTART:19700329T020000
RRULE:FREQ=YEARLY;BYMONTH=3;BYDAY=-1SU
END:DAYLIGHT
BEGIN:STANDARD
TZOFFSETFROM:+0200
TZOFFSETTO:+0100
TZNAME:CET
DTSTART:19701025T030000
RRULE:FREQ=YEARLY;BYMONTH=10;BYDAY=-1SU
END:STANDARD
END:VTIMEZONE
BEGIN:VEVENT
UID:37bbb74587b8704766d7c7ccd2516e2a
SUMMARY:Maria Ioudenitch (Violine), Rundfunk-Sinfonieorchester Berlin, Vladimir Jurowski (Leitung) - Choriner Musiksommer: Abschlusskonzert
URL:https://www.concerti.de/termine/maria-ioudenitch-violine-rundfunk-sinfonieorchester-berlin-vladimir-jurowski-leitung-kloster-chorin-891991/
DTSTART;TZID=Europe/Berlin:20260830T150000
DTEND;TZID=Europe/Berlin:20260830T170000
DESCRIPTION:Interpreten: Maria Ioudenitch (Violine)\, Rundfunk-Sinfonieorchester Berlin\, Vladimir Jurowski (Leitung) \nProgramm: Beethoven: Violinkonzert D-Dur\, Brahms: Sinfonie Nr. 2 D-Dur \nhttps://www.concerti.de/termine/maria-ioudenitch-violine-rundfunk-sinfonieorchester-berlin-vladimir-jurowski-leitung-kloster-chorin-891991/
LOCATION:Kloster Chorin\, Amt Chorin 11a\, 16230 Chorin
END:VEVENT
END:VCALENDAR