BEGIN:VCALENDAR
VERSION:2.0
PRODID:concerti//https://www.concerti.de
CALSCALE:GREGORIAN
BEGIN:VTIMEZONE
TZID:Europe/Berlin
X-LIC-LOCATION:Europe/Berlin
BEGIN:DAYLIGHT
TZOFFSETFROM:+0100
TZOFFSETTO:+0200
TZNAME:CEST
DTSTART:19700329T020000
RRULE:FREQ=YEARLY;BYMONTH=3;BYDAY=-1SU
END:DAYLIGHT
BEGIN:STANDARD
TZOFFSETFROM:+0200
TZOFFSETTO:+0100
TZNAME:CET
DTSTART:19701025T030000
RRULE:FREQ=YEARLY;BYMONTH=10;BYDAY=-1SU
END:STANDARD
END:VTIMEZONE
BEGIN:VEVENT
UID:da4f40343123a7294997e4a6c03ca83a
SUMMARY:Ji Eun Yun (Klavier)
URL:https://www.concerti.de/termine/ji-eun-yun-klavier-schloss-nymphenburg-891881/
DTSTART;TZID=Europe/Berlin:20260610T190000
DTEND;TZID=Europe/Berlin:20260610T210000
DESCRIPTION:Interpreten: Ji Eun Yun (Klavier) \nProgramm: Mozart: Klaviersonaten A-Dur KV 331 & c-Moll KV 457\, Fantasie c-Moll KV 475 & Neun Variationen D-Dur KV 573 \nhttps://www.concerti.de/termine/ji-eun-yun-klavier-schloss-nymphenburg-891881/
LOCATION:Schloss Nymphenburg\, Schloß Nymphenburg 1\, 80638 München
END:VEVENT
END:VCALENDAR