BEGIN:VCALENDAR
VERSION:2.0
PRODID:concerti//https://www.concerti.de
CALSCALE:GREGORIAN
BEGIN:VTIMEZONE
TZID:Europe/Berlin
X-LIC-LOCATION:Europe/Berlin
BEGIN:DAYLIGHT
TZOFFSETFROM:+0100
TZOFFSETTO:+0200
TZNAME:CEST
DTSTART:19700329T020000
RRULE:FREQ=YEARLY;BYMONTH=3;BYDAY=-1SU
END:DAYLIGHT
BEGIN:STANDARD
TZOFFSETFROM:+0200
TZOFFSETTO:+0100
TZNAME:CET
DTSTART:19701025T030000
RRULE:FREQ=YEARLY;BYMONTH=10;BYDAY=-1SU
END:STANDARD
END:VTIMEZONE
BEGIN:VEVENT
UID:f1391c34095b5b68e8f437fb9e405983
SUMMARY:Puccini: Turandot
URL:https://www.concerti.de/termine/puccini-turandot-stadttheater-passau-891853/
DTSTART;TZID=Europe/Berlin:20260623T193000
DTEND;TZID=Europe/Berlin:20260623T213000
DESCRIPTION:Interpreten: Basil H. E. Coleman (Leitung)\, Jonathan Lunn (Regie) \nhttps://www.concerti.de/termine/puccini-turandot-stadttheater-passau-891853/
LOCATION:Theater Am Hagen Straubing\, Am Hagen 61\, 94315 Straubing
END:VEVENT
END:VCALENDAR