BEGIN:VCALENDAR
VERSION:2.0
PRODID:concerti//https://www.concerti.de
CALSCALE:GREGORIAN
BEGIN:VTIMEZONE
TZID:Europe/Berlin
X-LIC-LOCATION:Europe/Berlin
BEGIN:DAYLIGHT
TZOFFSETFROM:+0100
TZOFFSETTO:+0200
TZNAME:CEST
DTSTART:19700329T020000
RRULE:FREQ=YEARLY;BYMONTH=3;BYDAY=-1SU
END:DAYLIGHT
BEGIN:STANDARD
TZOFFSETFROM:+0200
TZOFFSETTO:+0100
TZNAME:CET
DTSTART:19701025T030000
RRULE:FREQ=YEARLY;BYMONTH=10;BYDAY=-1SU
END:STANDARD
END:VTIMEZONE
BEGIN:VEVENT
UID:f2363f8a9955350738070df8e40c3281
SUMMARY:Keith Gruen (Klarinette), Megumi Bertram (Klavier), Helen Blau (Klavier), Dmitrij Romanov (Klavier), Paul Buruiana (Klavier), Eleonora Turkenich (Klavier), Megumi Bertram (Klavier), Jan Bertram (Klavier), Jan Bertram (Moderation)
URL:https://www.concerti.de/termine/keith-gruen-klarinette-megumi-bertram-klavier-helen-blau-klavier-dmitrij-romanov-klavier-paul-buruiana-klavier-eleonora-turkenich-klavier-megumi-bertram-klavier-jan-bertram-klavi-891850/
DTSTART;TZID=Europe/Berlin:20260626T190000
DTEND;TZID=Europe/Berlin:20260626T210000
DESCRIPTION:Interpreten: Keith Gruen (Klarinette)\, Megumi Bertram (Klavier)\, Helen Blau (Klavier)\, Dmitrij Romanov (Klavier)\, Paul Buruiana (Klavier)\, Eleonora Turkenich (Klavier)\, Megumi Bertram (Klavier)\, Jan Bertram (Klavier)\, Jan Bertram (Moderation) \nProgramm: Werke von Viñes\, Fauré\, Satie\, Ravel\, Albeniz & Debussy \nhttps://www.concerti.de/termine/keith-gruen-klarinette-megumi-bertram-klavier-helen-blau-klavier-dmitrij-romanov-klavier-paul-buruiana-klavier-eleonora-turkenich-klavier-megumi-bertram-klavier-jan-bertram-klavi-891850/
LOCATION:Schloss Nymphenburg\, Schloß Nymphenburg 1\, 80638 München
END:VEVENT
END:VCALENDAR