BEGIN:VCALENDAR
VERSION:2.0
PRODID:concerti//https://www.concerti.de
CALSCALE:GREGORIAN
BEGIN:VTIMEZONE
TZID:Europe/Berlin
X-LIC-LOCATION:Europe/Berlin
BEGIN:DAYLIGHT
TZOFFSETFROM:+0100
TZOFFSETTO:+0200
TZNAME:CEST
DTSTART:19700329T020000
RRULE:FREQ=YEARLY;BYMONTH=3;BYDAY=-1SU
END:DAYLIGHT
BEGIN:STANDARD
TZOFFSETFROM:+0200
TZOFFSETTO:+0100
TZNAME:CET
DTSTART:19701025T030000
RRULE:FREQ=YEARLY;BYMONTH=10;BYDAY=-1SU
END:STANDARD
END:VTIMEZONE
BEGIN:VEVENT
UID:ab3d8f78a9f22a3a9883fd064d1239b3
SUMMARY:Chopins vergessene Kantilene
URL:https://www.concerti.de/termine/chopins-vergessene-kantilene-muenchner-kuenstlerhaus-891774/
DTSTART;TZID=Europe/Berlin:20260527T200000
DTEND;TZID=Europe/Berlin:20260527T220000
DESCRIPTION:Interpreten: Hardy Rittner (Klavier & Moderation) \nhttps://www.concerti.de/termine/chopins-vergessene-kantilene-muenchner-kuenstlerhaus-891774/
LOCATION:Münchner Künstlerhaus\, Lenbachplatz 8\, 80333 München
END:VEVENT
END:VCALENDAR