BEGIN:VCALENDAR
VERSION:2.0
PRODID:concerti//https://www.concerti.de
CALSCALE:GREGORIAN
BEGIN:VTIMEZONE
TZID:Europe/Berlin
X-LIC-LOCATION:Europe/Berlin
BEGIN:DAYLIGHT
TZOFFSETFROM:+0100
TZOFFSETTO:+0200
TZNAME:CEST
DTSTART:19700329T020000
RRULE:FREQ=YEARLY;BYMONTH=3;BYDAY=-1SU
END:DAYLIGHT
BEGIN:STANDARD
TZOFFSETFROM:+0200
TZOFFSETTO:+0100
TZNAME:CET
DTSTART:19701025T030000
RRULE:FREQ=YEARLY;BYMONTH=10;BYDAY=-1SU
END:STANDARD
END:VTIMEZONE
BEGIN:VEVENT
UID:34fef7d720567b1c2eb010b0af82bc15
SUMMARY:Carlotta Brendel (Fagott), Philharmonisches Orchester Regensburg, Tom Woods (Leitung)
URL:https://www.concerti.de/termine/carlotta-brendel-fagott-philharmonisches-orchester-regensburg-tom-woods-leitung-neuhaussaal-891744/
DTSTART;TZID=Europe/Berlin:20261128T150000
DTEND;TZID=Europe/Berlin:20261128T170000
DESCRIPTION:Interpreten: Carlotta Brendel (Fagott)\, Philharmonisches Orchester Regensburg\, Tom Woods (Leitung) \nProgramm: Pergolesi: Sinfonie aus „La serva padrona“\, Vivaldi: Fagottkonzert\, Stamitz: Sinfonie D-Dur op. 3/2\, Haydn: Sinfonie Nr. 6 D-Dur Hob. I:6 \nhttps://www.concerti.de/termine/carlotta-brendel-fagott-philharmonisches-orchester-regensburg-tom-woods-leitung-neuhaussaal-891744/
LOCATION:Neuhaussaal\, Bismarckplatz 7\, 93047 Regensburg
END:VEVENT
END:VCALENDAR