BEGIN:VCALENDAR
VERSION:2.0
PRODID:concerti//https://www.concerti.de
CALSCALE:GREGORIAN
BEGIN:VTIMEZONE
TZID:Europe/Berlin
X-LIC-LOCATION:Europe/Berlin
BEGIN:DAYLIGHT
TZOFFSETFROM:+0100
TZOFFSETTO:+0200
TZNAME:CEST
DTSTART:19700329T020000
RRULE:FREQ=YEARLY;BYMONTH=3;BYDAY=-1SU
END:DAYLIGHT
BEGIN:STANDARD
TZOFFSETFROM:+0200
TZOFFSETTO:+0100
TZNAME:CET
DTSTART:19701025T030000
RRULE:FREQ=YEARLY;BYMONTH=10;BYDAY=-1SU
END:STANDARD
END:VTIMEZONE
BEGIN:VEVENT
UID:391826cf622060a9e216caf8119b50bc
SUMMARY:Rome, Julia &amp;
URL:https://www.concerti.de/termine/rome-julia-theater-regensburg-891729/
DTSTART;TZID=Europe/Berlin:20261225T180000
DTEND;TZID=Europe/Berlin:20261225T200000
DESCRIPTION:Interpreten: Dan Shlomo Pelleg (Choreografie)\, Marko E. Weigert (Choreografie) \nProgramm: Musik von Prokofjew \nhttps://www.concerti.de/termine/rome-julia-theater-regensburg-891729/
LOCATION:Theater Regensburg\, Bismarckpl. 7\, 93047 Regensburg
END:VEVENT
END:VCALENDAR