BEGIN:VCALENDAR
VERSION:2.0
PRODID:concerti//https://www.concerti.de
CALSCALE:GREGORIAN
BEGIN:VTIMEZONE
TZID:Europe/Berlin
X-LIC-LOCATION:Europe/Berlin
BEGIN:DAYLIGHT
TZOFFSETFROM:+0100
TZOFFSETTO:+0200
TZNAME:CEST
DTSTART:19700329T020000
RRULE:FREQ=YEARLY;BYMONTH=3;BYDAY=-1SU
END:DAYLIGHT
BEGIN:STANDARD
TZOFFSETFROM:+0200
TZOFFSETTO:+0100
TZNAME:CET
DTSTART:19701025T030000
RRULE:FREQ=YEARLY;BYMONTH=10;BYDAY=-1SU
END:STANDARD
END:VTIMEZONE
BEGIN:VEVENT
UID:752ba23bebc54492c46b8233105add41
SUMMARY:Apollon Quartett Prag, Friederike Becht (Rezitation) - Altmark Festspiele Gut Zichtau
URL:https://www.concerti.de/termine/apollon-quartett-prag-friederike-becht-rezitation-891674/
DTSTART;TZID=Europe/Berlin:20260815T170000
DTEND;TZID=Europe/Berlin:20260815T190000
DESCRIPTION:Interpreten: Apollon Quartett Prag\, Friederike Becht (Rezitation) \nProgramm: Suk: Meditation on the Old Czech Chorale "St. Wenceslas" op. 35a\, Seehafer: Eurydice-Fragment op. 81\, Dvořák: Streichquartett  in F-Dur op. 96 \nhttps://www.concerti.de/termine/apollon-quartett-prag-friederike-becht-rezitation-891674/
LOCATION:Gutshaus\, Birkholz
END:VEVENT
END:VCALENDAR