BEGIN:VCALENDAR
VERSION:2.0
PRODID:concerti//https://www.concerti.de
CALSCALE:GREGORIAN
BEGIN:VTIMEZONE
TZID:Europe/Berlin
X-LIC-LOCATION:Europe/Berlin
BEGIN:DAYLIGHT
TZOFFSETFROM:+0100
TZOFFSETTO:+0200
TZNAME:CEST
DTSTART:19700329T020000
RRULE:FREQ=YEARLY;BYMONTH=3;BYDAY=-1SU
END:DAYLIGHT
BEGIN:STANDARD
TZOFFSETFROM:+0200
TZOFFSETTO:+0100
TZNAME:CET
DTSTART:19701025T030000
RRULE:FREQ=YEARLY;BYMONTH=10;BYDAY=-1SU
END:STANDARD
END:VTIMEZONE
BEGIN:VEVENT
UID:51bc8f7fc90a809c42a6499d80b89ae4
SUMMARY:Vielleicht gelingt uns ein wenig Himmel - Altmark Festspiele Gut Zichtau
URL:https://www.concerti.de/termine/vielleicht-gelingt-uns-ein-wenig-himmel-891671/
DTSTART;TZID=Europe/Berlin:20260801T170000
DTEND;TZID=Europe/Berlin:20260801T190000
DESCRIPTION:Interpreten: Jiří Houdek (Trompete)\, Aleš Bárta (Orgel)\, Max Urlacher (Rezitation) \nhttps://www.concerti.de/termine/vielleicht-gelingt-uns-ein-wenig-himmel-891671/
LOCATION:St. Marien und Willebrord Kirche\, Schönhausen
END:VEVENT
END:VCALENDAR