BEGIN:VCALENDAR
VERSION:2.0
PRODID:concerti//https://www.concerti.de
CALSCALE:GREGORIAN
BEGIN:VTIMEZONE
TZID:Europe/Berlin
X-LIC-LOCATION:Europe/Berlin
BEGIN:DAYLIGHT
TZOFFSETFROM:+0100
TZOFFSETTO:+0200
TZNAME:CEST
DTSTART:19700329T020000
RRULE:FREQ=YEARLY;BYMONTH=3;BYDAY=-1SU
END:DAYLIGHT
BEGIN:STANDARD
TZOFFSETFROM:+0200
TZOFFSETTO:+0100
TZNAME:CET
DTSTART:19701025T030000
RRULE:FREQ=YEARLY;BYMONTH=10;BYDAY=-1SU
END:STANDARD
END:VTIMEZONE
BEGIN:VEVENT
UID:12b7a0f2a838fa6fa143a3fdacf2cb1f
SUMMARY:Reinhard Seehafer (Klavier), Avetis String Quartet - Altmark Festspiele Gut Zichtau
URL:https://www.concerti.de/termine/reinhard-seehafer-klavier-avetis-string-quartet-891659/
DTSTART;TZID=Europe/Berlin:20260704T170000
DTEND;TZID=Europe/Berlin:20260704T190000
DESCRIPTION:Interpreten: Reinhard Seehafer (Klavier)\, Avetis String Quartet \nProgramm: Dvořák: Streichquartett F-Dur op. 96\, Schumann: Klavierquintett Es-Dur op. 44 \nhttps://www.concerti.de/termine/reinhard-seehafer-klavier-avetis-string-quartet-891659/
LOCATION:Zuckerhalle\, Goldbeck
END:VEVENT
END:VCALENDAR