BEGIN:VCALENDAR
VERSION:2.0
PRODID:concerti//https://www.concerti.de
CALSCALE:GREGORIAN
BEGIN:VTIMEZONE
TZID:Europe/Berlin
X-LIC-LOCATION:Europe/Berlin
BEGIN:DAYLIGHT
TZOFFSETFROM:+0100
TZOFFSETTO:+0200
TZNAME:CEST
DTSTART:19700329T020000
RRULE:FREQ=YEARLY;BYMONTH=3;BYDAY=-1SU
END:DAYLIGHT
BEGIN:STANDARD
TZOFFSETFROM:+0200
TZOFFSETTO:+0100
TZNAME:CET
DTSTART:19701025T030000
RRULE:FREQ=YEARLY;BYMONTH=10;BYDAY=-1SU
END:STANDARD
END:VTIMEZONE
BEGIN:VEVENT
UID:72513ae33a68a45b8b1fcb5faaa24ecd
SUMMARY:Schülerinnen, Schüler &#038; Lehrende des Robert Schumann Konservatorium Zwickau - Sächsisches Mozartfest
URL:https://www.concerti.de/termine/schuelerinnen-schueler-lehrende-des-robert-schumann-konservatorium-zwickau-891648/
DTSTART;TZID=Europe/Berlin:20260623T183000
DTEND;TZID=Europe/Berlin:20260623T203000
DESCRIPTION:Interpreten: Schülerinnen\, Schüler & Lehrende des Robert Schumann Konservatorium Zwickau \nProgramm: Werke von Schütz\, Freundt\, Graupner\, Krebs u. a. \nhttps://www.concerti.de/termine/schuelerinnen-schueler-lehrende-des-robert-schumann-konservatorium-zwickau-891648/
LOCATION:Robert-Schumann-Konservatorium\, Zwickau
END:VEVENT
END:VCALENDAR