BEGIN:VCALENDAR
VERSION:2.0
PRODID:concerti//https://www.concerti.de
CALSCALE:GREGORIAN
BEGIN:VTIMEZONE
TZID:Europe/Berlin
X-LIC-LOCATION:Europe/Berlin
BEGIN:DAYLIGHT
TZOFFSETFROM:+0100
TZOFFSETTO:+0200
TZNAME:CEST
DTSTART:19700329T020000
RRULE:FREQ=YEARLY;BYMONTH=3;BYDAY=-1SU
END:DAYLIGHT
BEGIN:STANDARD
TZOFFSETFROM:+0200
TZOFFSETTO:+0100
TZNAME:CET
DTSTART:19701025T030000
RRULE:FREQ=YEARLY;BYMONTH=10;BYDAY=-1SU
END:STANDARD
END:VTIMEZONE
BEGIN:VEVENT
UID:c334ed440d3c3e4a5386fc70301b015f
SUMMARY:Claire Sojung Henkel (Violoncello), Matthias Glander (Klarinette), Reinhard Seehafer (Klavier) - Altmark Festspiele Gut Zichtau
URL:https://www.concerti.de/termine/claire-sojung-henkel-violoncello-matthias-glander-klarinette-reinhard-seehafer-klavier-891607/
DTSTART;TZID=Europe/Berlin:20260530T170000
DTEND;TZID=Europe/Berlin:20260530T190000
DESCRIPTION:Interpreten: Claire Sojung Henkel (Violoncello)\, Matthias Glander (Klarinette)\, Reinhard Seehafer (Klavier) \nProgramm: Fauré: Après un rêve\, Wagner: Träume WWV91\, Bruch: Kol Nidrei op. 47\, Poulenc: Sonate\, Dvořák: 3 Lieder\, Hensel: Lieder\, Morricone: Cinema Paradiso\, Brahms: Klarinettentrio op. 114 \nhttps://www.concerti.de/termine/claire-sojung-henkel-violoncello-matthias-glander-klarinette-reinhard-seehafer-klavier-891607/
LOCATION:Dorfkirche\, Berge
END:VEVENT
END:VCALENDAR