BEGIN:VCALENDAR
VERSION:2.0
PRODID:concerti//https://www.concerti.de
CALSCALE:GREGORIAN
BEGIN:VTIMEZONE
TZID:Europe/Berlin
X-LIC-LOCATION:Europe/Berlin
BEGIN:DAYLIGHT
TZOFFSETFROM:+0100
TZOFFSETTO:+0200
TZNAME:CEST
DTSTART:19700329T020000
RRULE:FREQ=YEARLY;BYMONTH=3;BYDAY=-1SU
END:DAYLIGHT
BEGIN:STANDARD
TZOFFSETFROM:+0200
TZOFFSETTO:+0100
TZNAME:CET
DTSTART:19701025T030000
RRULE:FREQ=YEARLY;BYMONTH=10;BYDAY=-1SU
END:STANDARD
END:VTIMEZONE
BEGIN:VEVENT
UID:fdb073b31aa8532218ff43eb2e8da42b
SUMMARY:Tini Mathot (Orgel), Ton Koopman (Orgel) - Sächsisches Mozartfest
URL:https://www.concerti.de/termine/tini-mathot-orgel-ton-koopman-orgel-891600/
DTSTART;TZID=Europe/Berlin:20260524T170000
DTEND;TZID=Europe/Berlin:20260524T190000
DESCRIPTION:Interpreten: Tini Mathot (Orgel)\, Ton Koopman (Orgel) \nProgramm: Werke von J. S. Bach\, Mozart & Seydelmann \nhttps://www.concerti.de/termine/tini-mathot-orgel-ton-koopman-orgel-891600/
LOCATION:Zum heiligen Kreuz Kirche\, Pockau-Lengefeld
END:VEVENT
END:VCALENDAR