BEGIN:VCALENDAR
VERSION:2.0
PRODID:concerti//https://www.concerti.de
CALSCALE:GREGORIAN
BEGIN:VTIMEZONE
TZID:Europe/Berlin
X-LIC-LOCATION:Europe/Berlin
BEGIN:DAYLIGHT
TZOFFSETFROM:+0100
TZOFFSETTO:+0200
TZNAME:CEST
DTSTART:19700329T020000
RRULE:FREQ=YEARLY;BYMONTH=3;BYDAY=-1SU
END:DAYLIGHT
BEGIN:STANDARD
TZOFFSETFROM:+0200
TZOFFSETTO:+0100
TZNAME:CET
DTSTART:19701025T030000
RRULE:FREQ=YEARLY;BYMONTH=10;BYDAY=-1SU
END:STANDARD
END:VTIMEZONE
BEGIN:VEVENT
UID:2822ff2c7d17b0522729e71760472106
SUMMARY:Ben Lepetit (Klavier) - Sächsisches Mozartfest
URL:https://www.concerti.de/termine/ben-lepetit-klavier-891584/
DTSTART;TZID=Europe/Berlin:20260521T200000
DTEND;TZID=Europe/Berlin:20260521T220000
DESCRIPTION:Interpreten: Ben Lepetit (Klavier) \nProgramm: Werke von Mozart\, Ravel\, Skrjabin & Rachmaninow \nhttps://www.concerti.de/termine/ben-lepetit-klavier-891584/
LOCATION:Hartmannfabrik\, Chemnitz
END:VEVENT
END:VCALENDAR