BEGIN:VCALENDAR
VERSION:2.0
PRODID:concerti//https://www.concerti.de
CALSCALE:GREGORIAN
BEGIN:VTIMEZONE
TZID:Europe/Berlin
X-LIC-LOCATION:Europe/Berlin
BEGIN:DAYLIGHT
TZOFFSETFROM:+0100
TZOFFSETTO:+0200
TZNAME:CEST
DTSTART:19700329T020000
RRULE:FREQ=YEARLY;BYMONTH=3;BYDAY=-1SU
END:DAYLIGHT
BEGIN:STANDARD
TZOFFSETFROM:+0200
TZOFFSETTO:+0100
TZNAME:CET
DTSTART:19701025T030000
RRULE:FREQ=YEARLY;BYMONTH=10;BYDAY=-1SU
END:STANDARD
END:VTIMEZONE
BEGIN:VEVENT
UID:3a78ce455aa767ee5624b6e4419ae92c
SUMMARY:Richard Röbel (Cembalo) - Sächsisches Mozartfest
URL:https://www.concerti.de/termine/richard-roebel-cembalo-891580/
DTSTART;TZID=Europe/Berlin:20260520T200000
DTEND;TZID=Europe/Berlin:20260520T220000
DESCRIPTION:Interpreten: Richard Röbel (Cembalo) \nProgramm: Werke von Mozart & Weißgerber \nhttps://www.concerti.de/termine/richard-roebel-cembalo-891580/
LOCATION:Neue Sächsische Galerie\, Chemnitz
END:VEVENT
END:VCALENDAR