BEGIN:VCALENDAR
VERSION:2.0
PRODID:concerti//https://www.concerti.de
CALSCALE:GREGORIAN
BEGIN:VTIMEZONE
TZID:Europe/Berlin
X-LIC-LOCATION:Europe/Berlin
BEGIN:DAYLIGHT
TZOFFSETFROM:+0100
TZOFFSETTO:+0200
TZNAME:CEST
DTSTART:19700329T020000
RRULE:FREQ=YEARLY;BYMONTH=3;BYDAY=-1SU
END:DAYLIGHT
BEGIN:STANDARD
TZOFFSETFROM:+0200
TZOFFSETTO:+0100
TZNAME:CET
DTSTART:19701025T030000
RRULE:FREQ=YEARLY;BYMONTH=10;BYDAY=-1SU
END:STANDARD
END:VTIMEZONE
BEGIN:VEVENT
UID:8fa51917735a11719bfba30a1234271a
SUMMARY:Marlen Bieber (Mezzosopran), Daniel Heide (Klavier) - Sächsisches Mozartfest
URL:https://www.concerti.de/termine/marlen-bieber-mezzosopran-daniel-heide-klavier-891576/
DTSTART;TZID=Europe/Berlin:20260519T200000
DTEND;TZID=Europe/Berlin:20260519T220000
DESCRIPTION:Interpreten: Marlen Bieber (Mezzosopran)\, Daniel Heide (Klavier) \nProgramm: Werke von Schubert\, Zemlinsky & Mahler \nhttps://www.concerti.de/termine/marlen-bieber-mezzosopran-daniel-heide-klavier-891576/
LOCATION:Villa Esche\, Chemnitz
END:VEVENT
END:VCALENDAR