BEGIN:VCALENDAR
VERSION:2.0
PRODID:concerti//https://www.concerti.de
CALSCALE:GREGORIAN
BEGIN:VTIMEZONE
TZID:Europe/Berlin
X-LIC-LOCATION:Europe/Berlin
BEGIN:DAYLIGHT
TZOFFSETFROM:+0100
TZOFFSETTO:+0200
TZNAME:CEST
DTSTART:19700329T020000
RRULE:FREQ=YEARLY;BYMONTH=3;BYDAY=-1SU
END:DAYLIGHT
BEGIN:STANDARD
TZOFFSETFROM:+0200
TZOFFSETTO:+0100
TZNAME:CET
DTSTART:19701025T030000
RRULE:FREQ=YEARLY;BYMONTH=10;BYDAY=-1SU
END:STANDARD
END:VTIMEZONE
BEGIN:VEVENT
UID:43874f82223c1911fa0edf9d2aa4ca7d
SUMMARY:Hans-Christian Rautengarten (Kontrabass), Annegret Neumann (Klavier), Wolf-Eike Bartels (Rezitation) - Sächsisches Mozartfest
URL:https://www.concerti.de/termine/hans-christian-rautengarten-kontrabass-annegret-neumann-klavier-wolf-eike-bartels-rezitation-891573/
DTSTART;TZID=Europe/Berlin:20260519T193000
DTEND;TZID=Europe/Berlin:20260519T213000
DESCRIPTION:Interpreten: Hans-Christian Rautengarten (Kontrabass)\, Annegret Neumann (Klavier)\, Wolf-Eike Bartels (Rezitation) \nProgramm: Werke von Mišek\, Janáček & Hertl \nhttps://www.concerti.de/termine/hans-christian-rautengarten-kontrabass-annegret-neumann-klavier-wolf-eike-bartels-rezitation-891573/
LOCATION:Baldauf Villa\, Marienberg
END:VEVENT
END:VCALENDAR