BEGIN:VCALENDAR
VERSION:2.0
PRODID:concerti//https://www.concerti.de
CALSCALE:GREGORIAN
BEGIN:VTIMEZONE
TZID:Europe/Berlin
X-LIC-LOCATION:Europe/Berlin
BEGIN:DAYLIGHT
TZOFFSETFROM:+0100
TZOFFSETTO:+0200
TZNAME:CEST
DTSTART:19700329T020000
RRULE:FREQ=YEARLY;BYMONTH=3;BYDAY=-1SU
END:DAYLIGHT
BEGIN:STANDARD
TZOFFSETFROM:+0200
TZOFFSETTO:+0100
TZNAME:CET
DTSTART:19701025T030000
RRULE:FREQ=YEARLY;BYMONTH=10;BYDAY=-1SU
END:STANDARD
END:VTIMEZONE
BEGIN:VEVENT
UID:7c29f77053601cf04cac106acb8597e4
SUMMARY:Eröffnungskonzert - Altmark Festspiele Gut Zichtau
URL:https://www.concerti.de/termine/eroeffnungskonzert-891553/
DTSTART;TZID=Europe/Berlin:20260516T190000
DTEND;TZID=Europe/Berlin:20260516T210000
DESCRIPTION:Interpreten: Hans H. Suh (Klavier)\, Czech National Symphony Orchester\, Reinhard Seehafer (Leitung) \nProgramm: Rachmaninov: Klavierkonzert Nr. 2 c-moll op.18\, Werke von Bernstein\, Smetana\, Chatschaturjan\, Abreu\, Beatles\, Elgar & Queen \nhttps://www.concerti.de/termine/eroeffnungskonzert-891553/
LOCATION:Alstomhalle\, Stendal
END:VEVENT
END:VCALENDAR