BEGIN:VCALENDAR
VERSION:2.0
PRODID:concerti//https://www.concerti.de
CALSCALE:GREGORIAN
BEGIN:VTIMEZONE
TZID:Europe/Berlin
X-LIC-LOCATION:Europe/Berlin
BEGIN:DAYLIGHT
TZOFFSETFROM:+0100
TZOFFSETTO:+0200
TZNAME:CEST
DTSTART:19700329T020000
RRULE:FREQ=YEARLY;BYMONTH=3;BYDAY=-1SU
END:DAYLIGHT
BEGIN:STANDARD
TZOFFSETFROM:+0200
TZOFFSETTO:+0100
TZNAME:CET
DTSTART:19701025T030000
RRULE:FREQ=YEARLY;BYMONTH=10;BYDAY=-1SU
END:STANDARD
END:VTIMEZONE
BEGIN:VEVENT
UID:f7bf02fa5dca75c382f03d2f6fbc6308
SUMMARY:Da Ponte – Heiteres Drama in einem Akt - Sächsisches Mozartfest
URL:https://www.concerti.de/termine/da-ponte-heiteres-drama-in-einem-akt-891545/
DTSTART;TZID=Europe/Berlin:20260513T200000
DTEND;TZID=Europe/Berlin:20260513T220000
DESCRIPTION:Interpreten: Elisabeth Freyhoff (Sopran)\, Tereza Glosová (Sopran)\, Richard Röbel (Fortepiano)\, Ahmad Mesgarha (Rezitation) \nhttps://www.concerti.de/termine/da-ponte-heiteres-drama-in-einem-akt-891545/
LOCATION:Schloss\, Augustusburg
END:VEVENT
END:VCALENDAR