BEGIN:VCALENDAR
VERSION:2.0
PRODID:concerti//https://www.concerti.de
CALSCALE:GREGORIAN
BEGIN:VTIMEZONE
TZID:Europe/Berlin
X-LIC-LOCATION:Europe/Berlin
BEGIN:DAYLIGHT
TZOFFSETFROM:+0100
TZOFFSETTO:+0200
TZNAME:CEST
DTSTART:19700329T020000
RRULE:FREQ=YEARLY;BYMONTH=3;BYDAY=-1SU
END:DAYLIGHT
BEGIN:STANDARD
TZOFFSETFROM:+0200
TZOFFSETTO:+0100
TZNAME:CET
DTSTART:19701025T030000
RRULE:FREQ=YEARLY;BYMONTH=10;BYDAY=-1SU
END:STANDARD
END:VTIMEZONE
BEGIN:VEVENT
UID:bb4520cd4a20f616bd7a7479957dbed4
SUMMARY:Eröffnungskonzert - Sächsisches Mozartfest
URL:https://www.concerti.de/termine/eroeffnungskonzert-891533/
DTSTART;TZID=Europe/Berlin:20260508T200000
DTEND;TZID=Europe/Berlin:20260508T220000
DESCRIPTION:Interpreten: Mark Tayetskyi (Saxophon)\, Ragna Schirmer (Klavier)\, Orchester des Musik-Lyzeum Solomiyka Krushelnytska Lviv\, Tom Newall (Leitung) \nProgramm: Werke von C. Schumann\, Armstrong\, Xaver & Mozart \nhttps://www.concerti.de/termine/eroeffnungskonzert-891533/
LOCATION:Kreuzkirche\, Chemnitz
END:VEVENT
END:VCALENDAR