BEGIN:VCALENDAR
VERSION:2.0
PRODID:concerti//https://www.concerti.de
CALSCALE:GREGORIAN
BEGIN:VTIMEZONE
TZID:Europe/Berlin
X-LIC-LOCATION:Europe/Berlin
BEGIN:DAYLIGHT
TZOFFSETFROM:+0100
TZOFFSETTO:+0200
TZNAME:CEST
DTSTART:19700329T020000
RRULE:FREQ=YEARLY;BYMONTH=3;BYDAY=-1SU
END:DAYLIGHT
BEGIN:STANDARD
TZOFFSETFROM:+0200
TZOFFSETTO:+0100
TZNAME:CET
DTSTART:19701025T030000
RRULE:FREQ=YEARLY;BYMONTH=10;BYDAY=-1SU
END:STANDARD
END:VTIMEZONE
BEGIN:VEVENT
UID:af356c875b2233108b441635adaeb88a
SUMMARY:Bayerisches Kammerorchester Bad Brückenau, Sebastian Tewinkel (Leitung)
URL:https://www.concerti.de/termine/bayerisches-kammerorchester-bad-brueckenau-sebastian-tewinkel-leitung-891187/
DTSTART;TZID=Europe/Berlin:20260710T203000
DTEND;TZID=Europe/Berlin:20260710T223000
DESCRIPTION:Interpreten: Bayerisches Kammerorchester Bad Brückenau\, Sebastian Tewinkel (Leitung) \nProgramm: R. Strauss: Serenade Es-Dur op. 7\, Dvořák: Serenade d-Moll op. 44\, Mussorgski/Tarkmann: Bilder einer Ausstellung \nhttps://www.concerti.de/termine/bayerisches-kammerorchester-bad-brueckenau-sebastian-tewinkel-leitung-891187/
LOCATION:Ehem. Abtei\, Seligenstadt
END:VEVENT
END:VCALENDAR