BEGIN:VCALENDAR
VERSION:2.0
PRODID:concerti//https://www.concerti.de
CALSCALE:GREGORIAN
BEGIN:VTIMEZONE
TZID:Europe/Berlin
X-LIC-LOCATION:Europe/Berlin
BEGIN:DAYLIGHT
TZOFFSETFROM:+0100
TZOFFSETTO:+0200
TZNAME:CEST
DTSTART:19700329T020000
RRULE:FREQ=YEARLY;BYMONTH=3;BYDAY=-1SU
END:DAYLIGHT
BEGIN:STANDARD
TZOFFSETFROM:+0200
TZOFFSETTO:+0100
TZNAME:CET
DTSTART:19701025T030000
RRULE:FREQ=YEARLY;BYMONTH=10;BYDAY=-1SU
END:STANDARD
END:VTIMEZONE
BEGIN:VEVENT
UID:48fcb4fc31168038973e87aa10a7dffa
SUMMARY:Arne Zeller (Violoncello), Yukino Kaihara (Klavier)
URL:https://www.concerti.de/termine/arne-zeller-violoncello-yukino-kaihara-klavier-casals-forum-kronberg-891135/
DTSTART;TZID=Europe/Berlin:20260628T161500
DTEND;TZID=Europe/Berlin:20260628T181500
DESCRIPTION:Interpreten: Arne Zeller (Violoncello)\, Yukino Kaihara (Klavier) \nProgramm: Bloch: From Jewish Life\, Mendelssohn: Cellosonate Nr. 2 D-Dur op. 58\, Toch: Impromptu op. 90c\, Schumann: Fantasiestücke op. 73 \nhttps://www.concerti.de/termine/arne-zeller-violoncello-yukino-kaihara-klavier-casals-forum-kronberg-891135/
LOCATION:Casals Forum Kronberg\, Beethovenpl. 1\, 61476 Kronberg (Taunus)
END:VEVENT
END:VCALENDAR